{
 "currentVersion": 10.61,
 "serviceDescription": "",
 "mapName": "Layers",
 "description": "",
 "copyrightText": "",
 "supportsDynamicLayers": false,
 "layers": [
  {
   "id": 0,
   "name": "Townships",
   "parentLayerId": -1,
   "defaultVisibility": true,
   "subLayerIds": null,
   "minScale": 0,
   "maxScale": 0
  }
 ],
 "tables": [
  {
   "id": 1,
   "name": "ConstructionUnitLibrary"
  },
  {
   "id": 2,
   "name": "MULTISPEAK_TRANSLATIONMAP"
  }
 ],
 "spatialReference": {
  "wkid": 102675,
  "latestWkid": 3417
 },
 "singleFusedMapCache": true,
 "tileInfo": {
  "rows": 256,
  "cols": 256,
  "dpi": 96,
  "format": "PNG",
  "compressionQuality": 0,
  "origin": {
   "x": -115419000,
   "y": 1.4678289999999997E8
  },
  "spatialReference": {
   "wkid": 102675,
   "latestWkid": 3417
  },
  "lods": [
   {
    "level": 0,
    "resolution": 711.1111111111111,
    "scale": 819200
   },
   {
    "level": 1,
    "resolution": 355.55555555555554,
    "scale": 409600
   },
   {
    "level": 2,
    "resolution": 177.77777777777777,
    "scale": 204800
   },
   {
    "level": 3,
    "resolution": 88.88888888888889,
    "scale": 102400
   },
   {
    "level": 4,
    "resolution": 44.44444444444444,
    "scale": 51200
   },
   {
    "level": 5,
    "resolution": 22.22222222222222,
    "scale": 25600
   },
   {
    "level": 6,
    "resolution": 11.11111111111111,
    "scale": 12800
   },
   {
    "level": 7,
    "resolution": 5.555555555555555,
    "scale": 6400
   },
   {
    "level": 8,
    "resolution": 2.7777777777777777,
    "scale": 3200
   },
   {
    "level": 9,
    "resolution": 1.3888888888888888,
    "scale": 1600
   },
   {
    "level": 10,
    "resolution": 0.6944444444444444,
    "scale": 800
   },
   {
    "level": 11,
    "resolution": 0.3472222222222222,
    "scale": 400
   },
   {
    "level": 12,
    "resolution": 0.1736111111111111,
    "scale": 200
   },
   {
    "level": 13,
    "resolution": 0.08680555555555555,
    "scale": 100
   }
  ]
 },
 "initialExtent": {
  "xmin": 4961964.1168129975,
  "ymin": 3906565.752702821,
  "xmax": 5637311.3390352195,
  "ymax": 4168718.530480599,
  "spatialReference": {
   "wkid": 102675,
   "latestWkid": 3417
  }
 },
 "fullExtent": {
  "xmin": 4961964.1168129975,
  "ymin": 3642676.8638139316,
  "xmax": 5637311.3390352195,
  "ymax": 4168718.5304805986,
  "spatialReference": {
   "wkid": 102675,
   "latestWkid": 3417
  }
 },
 "minScale": 819200,
 "maxScale": 100,
 "units": "esriFeet",
 "supportedImageFormatTypes": "PNG32,PNG24,PNG,JPG,DIB,TIFF,EMF,PS,PDF,GIF,SVG,SVGZ,BMP",
 "documentInfo": {
  "Title": "",
  "Author": "",
  "Comments": "",
  "Subject": "",
  "Category": "",
  "AntialiasingMode": "None",
  "TextAntialiasingMode": "Force",
  "Keywords": "Hawkeye,basemap"
 },
 "capabilities": "Map,Query,Data",
 "supportedQueryFormats": "JSON, AMF, geoJSON",
 "exportTilesAllowed": false,
 "datumTransformations": [
  {
   "geoTransforms": [
    {
     "wkid": 108001,
     "latestWkid": 1241,
     "transformForward": true,
     "name": "NAD_1927_To_NAD_1983_NADCON"
    }
   ]
  },
  {
   "geoTransforms": [
    {
     "wkid": 108001,
     "latestWkid": 1241,
     "transformForward": false,
     "name": "NAD_1927_To_NAD_1983_NADCON"
    }
   ]
  }
 ],
 "supportsDatumTransformation": true,
 "maxRecordCount": 1000,
 "maxImageHeight": 2048,
 "maxImageWidth": 2048,
 "supportedExtensions": ""
}
